BEGIN:VCALENDAR
VERSION:2.0
PRODID:-//NETHERLANDS CODING LIVE//event calendar//EN
CALSCALE:GREGORIAN
METHOD:PUBLISH
BEGIN:VEVENT
ORGANIZER;CN="Netherlands Coding Live":mailto:netherlands-coding-live@protonmail.com
SUMMARY:Live Coding Sessions #11 x Live Instruments
DESCRIPTION:@ Doka\n\n
	Doors: 19:30 \n
	Price: €10,- / €7,50
UID:https://netherlands-coding-live.github.io/events/2026-06-11-lcs-11/
SEQUENCE:0
STATUS:CONFIRMED
DTSTART:20260611T200000
DTEND:20260611T223000
LOCATION:Doka\, Wibautstraat 150 Amsterdam\, NL
URL:https://netherlands-coding-live.github.io/events/2026-06-11-lcs-11/
END:VEVENT
END:VCALENDAR